BEGIN:VCALENDAR
VERSION:2.0
PRODID:-//pretix//pretix.eu//
BEGIN:VTIMEZONE
TZID:Europe/Berlin
BEGIN:STANDARD
DTSTART:20001029T040000
RRULE:FREQ=YEARLY;BYDAY=-1SU;BYMONTH=10
TZNAME:CET
TZOFFSETFROM:+0200
TZOFFSETTO:+0100
END:STANDARD
BEGIN:DAYLIGHT
DTSTART:20000326T030000
RRULE:FREQ=YEARLY;BYDAY=-1SU;BYMONTH=3
TZNAME:CEST
TZOFFSETFROM:+0100
TZOFFSETTO:+0200
END:DAYLIGHT
END:VTIMEZONE
BEGIN:VEVENT
UID:pretix-Coding-For-Tomorrow-digitaltag1-0@termine.coding-for-tomorrow.de
DTSTART;TZID=Europe/Berlin:20260626T143000
DTEND;TZID=Europe/Berlin:20260626T173000
DESCRIPTION:Tickets: https://termine.coding-for-tomorrow.de/digitaltag1/\nV
 eranstalter: Coding For Tomorrow
DTSTAMP:20260422T140420Z
LOCATION:Mindener Str. 33a\, 40227 Düsseldorf\, Deutschland
SUMMARY:Safe Space VR – Gestalte deinen virtuellen Rückzugsort mit Delig
 htex
END:VEVENT
END:VCALENDAR
